Workbook

Sheet Background
A1: BLUE SKY LIMITED
A2: EMPLOYEE BENEFITS EXAMPLE
A4: Employee benefits
A5: Salaries and bonuses - 2012 | E5: 5500000
A6: Includes outstanding prior year | E6: 40000
A8: Provident fund contributions | E8: 0.08
B9: (Based on annual salaries and bonuses)
A11: Annual leave
A12: Oblidged to take during December (days) | E12: 28
A13: Days paid out if not used in current year | E13: 7
A15: Expected days paid out in January 2013 | E15: 3
A16: Provision based on (days) | E16: 360
A18: Bus rental
A19: Duration of contract (yrs) | E19: 5
A20: Initial rental charge (per month) | E20: 5000
B21: Paid in advance
B22: Escalate annually | E22: 0.1
A23: Contract concluded
A24: Instalment for January 2013 paid on 31 December 2012
A26: Sick leave
A27: Entitlement (days) | E27: 30
A28: Can accumulate for 1 year
A29: Expectation | C29: % of total salaries* | E29: Days used
C30: 0.7 | E30: 5
C31: 0.2 | E31: 16
C32: 0.1 | E32: 35
B34: * Total salaries exclude:
B35: Bonus
B36: Paid vacation leave
B37: Provident fund contributions
B38: Bus rental
A40: Sick leave 2011 | E40: 380000

Sheet Calculations
A1: BLUE SKY LIMITED
A2: EMPLOYEE BENEFITS EXAMPLE
A4: 2. Salaries & bonuses
A5: Salaries | I5: =(Background!E5-Background!E6)*12/13 -> 5040000
B6: [(5 500 000- 40 000) x 12/13]
A7: Bonus | I7: =(Background!E5-Background!E6)/13 -> 420000
B8: [(5 500 000- 40 000) x 1/13]
I9: =SUM(I5:I8) -> 5460000
A11: 3. Providend fund contributions
B12: Total salaries and bonusses for the year | I12: =I9 -> 5460000
B13: Contribution | G13: =Background!E8 -> 0.08 | I13: =I12*G13 -> 436800
A15: 4. Annual leave
B16: Total salaries and bonusses for the year | I16: =I9 -> 5460000
B17: Work days in year | I17: =Background!E16 -> 360
B18: Expected days paid out | I18: =Background!E15 -> 3
B20: Annual leave | I20: =I16/I17*I18 -> 45500
A22: 5. Bus rental (per month)
B23: 1 Jul 2009 - 30 June 2010 | I23: =Background!E20 -> 5000
B24: 1 Jul 2010 - 30 June 2011 | I24: =I23*(1+Background!E22) -> 5500
B25: 1 Jul 2011 - 30 June 2012 | I25: =I24*(1+Background!E22) -> 6050
B26: 1 Jul 2012 - 30 June 2013 | I26: =I25*(1+Background!E22) -> 6655
B28: Rental for the year
B29: 1 January 2012 - 30 June 2012 | I29: =I25*6 -> 36300
B30: 1 July 2012 - 31 December 2012 | I30: =I26*6 -> 39930
I31: =SUM(I29:I30) -> 76230
A32: 6. Sick leave
B33: Sick days outstanding at year end
B34: 2011 - First year of 2 year cycle | E34: % of total salaries* | G34: Days used | I34: Days carried forward to 2012
E35: =Background!C30 -> 0.7 | G35: =Background!E30 -> 5 | I35: =Background!E27-Calculations!G35 -> 25
E36: =Background!C31 -> 0.2 | G36: =Background!E31 -> 16 | I36: =Background!E27-Calculations!G36 -> 14
E37: =Background!C32 -> 0.1 | G37: =Background!E32 -> 35 | I37: =Background!E27-Calculations!G37 -> -5
I39: R
B40: 2011 Provision | I40: =(Background!E40/Background!E27*Calculations!I35*Calculations!E35)+(Background!E40/Background!E27*Calculations!I36*Calculations!E36) -> 257133.33
C41: (380 000/30 x 25 x 70%) + (380 000/30 x 14 x 20%)
B43: 2012 Second year of 2 year cycle | E43: % of total salaries* | G43: Days used | I43: Days to be paid out
E44: =Background!C30 -> 0.7 | G44: =Background!E30 -> 5 | I44: =Background!E27+Calculations!I35-Calculations!G44 -> 50
E45: =Background!C31 -> 0.2 | G45: =Background!E31 -> 16 | I45: =Background!E27+Calculations!I36-Calculations!G45 -> 28
E46: =Background!C32 -> 0.1 | G46: =Background!E32 -> 35 | I46: =Background!E27+Calculations!I37-Calculations!G46+5 -> -5
I48: R
B49: 2012 Provision | I49: =(E50*I44*E44)+(E50*I45*E45) -> 568400
...

Sheet Disclosure
A1: BLUE SKY LIMITED
A2: EMPLOYEE BENEFITS EXAMPLE
A12: BLUE SKY LIMITED
A13: NOTES FOR THE YEAR ENDED 31 DECEMBER 2012
A14: 2. Profit before tax | E14: 2012
A15: Profit before tax stated after taking into account the following:
B16: Employee benefits | E16: =SUM(E17:E18) -> 6329796.7
C17: Short term employee benefits | E17: =Calculations!I9+Calculations!I31+Calculations!I58 -> 5892996.7
C18: Defined contribution plan expense | E18: =Calculations!I13 -> 436800
